{"text_format":"1","workbook":"xlsx","n_sheets":2,"sheets":["Lists","EasyCalc"],"not_rendered":{"charts":0,"images":0,"macros":1,"external_links":0,"defined_names":18,"comments":0,"pivot_tables":0},"unopened":[],"bounds":{"document_bytes":16777216,"sheet_cells":100000,"rows_first":2000,"rows_last":500,"rows_between":2000,"halvings":0,"cell_chars":16384,"cell_head_chars":4096},"cells_cut":0,"cells_raw":0,"read":"whole","date_system":"1900"}

{"sheet":"Lists","index":0,"n_rows":32,"n_cols":9,"rows_kept":32,"cut":false,"hidden":true,"merged":[]}
[]
[null,"Mass_Conc_Calc","Factor_Conc",null,"Mass_Vol_Calc","Factor_Vol",null,"Mass_Mass_Calc"]
[null,"Mass_Conc",{"$f":"VLOOKUP(EasyCalc!D5,Mass_Conc_Calc,2,FALSE)*EasyCalc!C5","v":{"$error":"#N/A"}},null,"Mass_Vol",{"$f":"VLOOKUP(EasyCalc!D6,Mass_vol_calc,2,FALSE)*EasyCalc!C6","v":{"$error":"#N/A"}},null,"Mass_Mass"]
[]
[null,"M",1,null,"L",1,null,"g",1]
[null,"mM",{"$f":"C5/1000","v":1E-3},null,"mL",{"$f":"F5/1000","v":1E-3},null,"mg",{"$f":"I5/1000","v":1E-3}]
[null,"uM",{"$f":"C6/1000","v":9.9999999999999995E-7},null,"uL",{"$f":"F6/1000","v":9.9999999999999995E-7},null,"ug",{"$f":"I6/1000","v":9.9999999999999995E-7}]
[null,"nM",{"$f":"C7/1000","v":9.9999999999999986E-10},null,"nL",{"$f":"F7/1000","v":9.9999999999999986E-10},null,"ng",{"$f":"I7/1000","v":9.9999999999999986E-10}]
[null,"pM",{"$f":"C8/1000","v":9.9999999999999978E-13},null,"pL",{"$f":"F8/1000","v":9.9999999999999978E-13},null,"pg",{"$f":"I8/1000","v":9.9999999999999978E-13}]
[null,"fM",{"$f":"C9/1000","v":9.9999999999999968E-16},null,"fL",{"$f":"F9/1000","v":9.9999999999999968E-16},null,"fg",{"$f":"I9/1000","v":9.9999999999999968E-16}]
[]
[]
[null,"Vol_Conc_Calc","Factor_C_V",null,"Vol_Mass_Calc","Factor_M_V",null,"Vol_Vol_Calc"]
[null,"Vol_Conc",{"$f":"VLOOKUP(EasyCalc!D13,Vol_Conc_Calc,2,FALSE) * EasyCalc!C13","v":{"$error":"#N/A"}},null,"Vol_Mass",{"$f":"VLOOKUP(EasyCalc!D14,Vol_Mass_Calc,2,FALSE) * EasyCalc!C14","v":{"$error":"#N/A"}},null,"Vol_Vol"]
[]
[null,"M",1,null,"g",1,null,"L",1]
[null,"mM",{"$f":"C16/1000","v":1E-3},null,"mg",{"$f":"F16/1000","v":1E-3},null,"mL",{"$f":"I16/1000","v":1E-3}]
[null,"uM",{"$f":"C17/1000","v":9.9999999999999995E-7},null,"ug",{"$f":"F17/1000","v":9.9999999999999995E-7},null,"uL",{"$f":"I17/1000","v":9.9999999999999995E-7}]
[null,"nM",{"$f":"C18/1000","v":9.9999999999999986E-10},null,"ng",{"$f":"F18/1000","v":9.9999999999999986E-10},null,"nL",{"$f":"I18/1000","v":9.9999999999999986E-10}]
[null,"pM",{"$f":"C19/1000","v":9.9999999999999978E-13},null,"pg",{"$f":"F19/1000","v":9.9999999999999978E-13},null,"pL",{"$f":"I19/1000","v":9.9999999999999978E-13}]
[null,"fM",{"$f":"C20/1000","v":9.9999999999999968E-16},null,"fg",{"$f":"F20/1000","v":9.9999999999999968E-16},null,"fL",{"$f":"I20/1000","v":9.9999999999999968E-16}]
[]
[]
[null,"Conc_Mass_Calc","Factor_M_C",null,"Conc_Vol_Calc","Factor_V_C",null,"Conc_Conc_Calc"]
[null,"Conc_Mass",{"$f":"VLOOKUP(EasyCalc!D21,Conc_Mass_Calc,2,FALSE)","v":{"$error":"#N/A"}},null,"Conc_Vol",{"$f":"VLOOKUP(EasyCalc!D22,Conc_Vol_Calc,2,FALSE)","v":{"$error":"#N/A"}},null,"Conc_Conc"]
[]
[null,"g",1,null,"L",1,null,"M",1]
[null,"mg",{"$f":"C27/1000","v":1E-3},null,"mL",{"$f":"F27/1000","v":1E-3},null,"mM",{"$f":"I27/1000","v":1E-3}]
[null,"ug",{"$f":"C28/1000","v":9.9999999999999995E-7},null,"uL",{"$f":"F28/1000","v":9.9999999999999995E-7},null,"uM",{"$f":"I28/1000","v":9.9999999999999995E-7}]
[null,"ng",{"$f":"C29/1000","v":9.9999999999999986E-10},null,"nL",{"$f":"F29/1000","v":9.9999999999999986E-10},null,"nM",{"$f":"I29/1000","v":9.9999999999999986E-10}]
[null,"pg",{"$f":"C30/1000","v":9.9999999999999978E-13},null,"pL",{"$f":"F30/1000","v":9.9999999999999978E-13},null,"pM",{"$f":"I30/1000","v":9.9999999999999978E-13}]
[null,"fg",{"$f":"C31/1000","v":9.9999999999999968E-16},null,"fL",{"$f":"F31/1000","v":9.9999999999999968E-16},null,"fM",{"$f":"I31/1000","v":9.9999999999999968E-16}]

{"sheet":"EasyCalc","index":1,"n_rows":30,"n_cols":3,"rows_kept":30,"cut":false,"hidden":false,"merged":[]}
[]
[null,"Mass from concentration and volume"]
[null,"Compound"]
[null,"MW"]
[null,"Concentration"]
[null,"Volume"]
[null,"Mass (#)",{"$f":"IF(AND(D5<>\"\", D6<>\"\", D7<>\"\", COUNT(C4:C6)>2),C4*Lists!C3*Lists!F3/VLOOKUP(D7,Mass_Mass_Calc,2,FALSE),\"\")","v":""}]
[null,"Mass (10^)",{"$f":"IF(C7<>\"\", C7,\"\")","v":""}]
[]
[null,"Volume from concentration and mass"]
[null,"Compound"]
[null,"MW"]
[null,"Concentration"]
[null,"Mass"]
[null,"Volume",{"$f":"IF(AND(D13<>\"\", D14<>\"\", D15<>\"\", COUNT(C12:C14)>2), Lists!F14/EasyCalc!C12/(Lists!C14)/VLOOKUP(D15,Vol_Vol_Calc,2,FALSE), \"\")","v":""}]
[null,"Mass (10^)",{"$f":"IF(C15<>\"\", C15,\"\")","v":""}]
[]
[null,"Concentration from mass and volume"]
[null,"Compound"]
[null,"MW"]
[null,"Mass"]
[null,"Volume"]
[null,"Concentration",{"$f":"IF(AND(D21<>\"\", D22<>\"\",D23<>\"\", COUNT(C20:C22)>2),(C21*Lists!C25)/(EasyCalc!C22*Lists!F25)/EasyCalc!C20/VLOOKUP(D23,Conc_Conc_Calc,2,FALSE), \"\")","v":""}]
[null,"Mass (10^)",{"$f":"IF(C23<>\"\", C23,\"\")","v":""}]
[]
[]
[]
[]
[]
[null,"To clear all cells, press \"Alt\" + \"F8\" and run macro"]